BEGIN:VCALENDAR
VERSION:2.0
PRODID:-//Commune de Pechabou - ECPv6.15.16//NONSGML v1.0//EN
CALSCALE:GREGORIAN
METHOD:PUBLISH
X-ORIGINAL-URL:https://www.pechabou.fr
X-WR-CALDESC:Évènements pour Commune de Pechabou
REFRESH-INTERVAL;VALUE=DURATION:PT1H
X-Robots-Tag:noindex
X-PUBLISHED-TTL:PT1H
BEGIN:VTIMEZONE
TZID:Europe/Paris
BEGIN:DAYLIGHT
TZOFFSETFROM:+0100
TZOFFSETTO:+0200
TZNAME:CEST
DTSTART:20240331T010000
END:DAYLIGHT
BEGIN:STANDARD
TZOFFSETFROM:+0200
TZOFFSETTO:+0100
TZNAME:CET
DTSTART:20241027T010000
END:STANDARD
BEGIN:DAYLIGHT
TZOFFSETFROM:+0100
TZOFFSETTO:+0200
TZNAME:CEST
DTSTART:20250330T010000
END:DAYLIGHT
BEGIN:STANDARD
TZOFFSETFROM:+0200
TZOFFSETTO:+0100
TZNAME:CET
DTSTART:20251026T010000
END:STANDARD
BEGIN:DAYLIGHT
TZOFFSETFROM:+0100
TZOFFSETTO:+0200
TZNAME:CEST
DTSTART:20260329T010000
END:DAYLIGHT
BEGIN:STANDARD
TZOFFSETFROM:+0200
TZOFFSETTO:+0100
TZNAME:CET
DTSTART:20261025T010000
END:STANDARD
END:VTIMEZONE
BEGIN:VEVENT
DTSTART;VALUE=DATE:20250901
DTEND;VALUE=DATE:20251001
DTSTAMP:20260419T185857
CREATED:20250611T080136Z
LAST-MODIFIED:20250611T080136Z
UID:126478-1756684800-1759276799@www.pechabou.fr
SUMMARY:Exposition\, le petit monde de Tania
DESCRIPTION:Exposition des œuvres de Tania
URL:https://www.pechabou.fr/event/exposition-le-petit-monde-de-tania/
LOCATION:Médiathèque de Pechabou\, 29 avenue d’Occitanie\, Pechabou\, 31320\, France
CATEGORIES:Art manuel,Exposition,Peinture
ATTACH;FMTTYPE=image/jpeg:https://www.pechabou.fr/wp-content/uploads/2025/06/Le-petit-monde-de-Tania-art.jpg
ORGANIZER;CN="M%C3%A9diath%C3%A8que de Pechabou":MAILTO:mediatheque@mairie-pechabou.fr
END:VEVENT
BEGIN:VEVENT
DTSTART;VALUE=DATE:20250919
DTEND;VALUE=DATE:20250922
DTSTAMP:20260419T185857
CREATED:20250730T145534Z
LAST-MODIFIED:20250827T135040Z
UID:127019-1758240000-1758499199@www.pechabou.fr
SUMMARY:Week-end zen à Pechabou
DESCRIPTION:L’association Zen à Pechabou organise une présentation des arts traditionnels japonais dans lesquels on retrouve l’esprit du zen.\nPour les détails\, voici le programme détaillé ›
URL:https://www.pechabou.fr/event/week-end-zen-a-pechabou/
LOCATION:Salle des Glaces\, 6 rue du Fort\, Pechabou\, 31320\, France
CATEGORIES:Art manuel,Association,Atelier,Culture
ATTACH;FMTTYPE=image/png:https://www.pechabou.fr/wp-content/uploads/2025/07/Zen-art.png
ORGANIZER;CN="Association zen de Pechabou":MAILTO:lae.mayeur@wanadoo.fr
END:VEVENT
BEGIN:VEVENT
DTSTART;TZID=Europe/Paris:20250919T203000
DTEND;TZID=Europe/Paris:20250919T213000
DTSTAMP:20260419T185857
CREATED:20250730T144644Z
LAST-MODIFIED:20250731T075341Z
UID:127015-1758313800-1758317400@www.pechabou.fr
SUMMARY:Week-end Zen\, musique et mythes du Japon à la médiathèque
DESCRIPTION:Dans le cadre du week-end zen à Pechabou\, venez assister à une performance d’Eva Hahn. Porté autant par la voix de la conteuse que par les sonorités riches de la flûte traditionnelle Shakuhachi\, ce spectacle est une invitation à raviver nos sens et inspirer un regard nouveau sur la nature des choses et des êtres vivants\, autour de musiques du japon et de mythes Aïnou. \nDe et par Eva Hahn : récit\, flûtes et percussions \nDurée : 1 h\nPublic familial à partir de 6 ans\nRéservation auprès de la médiathèque
URL:https://www.pechabou.fr/event/week-end-zen-musique-et-mythes-du-japon-a-la-mediatheque/
LOCATION:Médiathèque de Pechabou\, 29 avenue d’Occitanie\, Pechabou\, 31320\, France
CATEGORIES:Association,Concert,Musique
ATTACH;FMTTYPE=image/png:https://www.pechabou.fr/wp-content/uploads/2025/07/Zen-med-art.png
ORGANIZER;CN="Association zen de Pechabou":MAILTO:lae.mayeur@wanadoo.fr
END:VEVENT
END:VCALENDAR