BEGIN:VCALENDAR
VERSION:2.0
PRODID:-//Commune de Pechabou - ECPv6.15.16//NONSGML v1.0//EN
CALSCALE:GREGORIAN
METHOD:PUBLISH
X-ORIGINAL-URL:https://www.pechabou.fr
X-WR-CALDESC:Évènements pour Commune de Pechabou
REFRESH-INTERVAL;VALUE=DURATION:PT1H
X-Robots-Tag:noindex
X-PUBLISHED-TTL:PT1H
BEGIN:VTIMEZONE
TZID:Europe/Paris
BEGIN:DAYLIGHT
TZOFFSETFROM:+0100
TZOFFSETTO:+0200
TZNAME:CEST
DTSTART:20240331T010000
END:DAYLIGHT
BEGIN:STANDARD
TZOFFSETFROM:+0200
TZOFFSETTO:+0100
TZNAME:CET
DTSTART:20241027T010000
END:STANDARD
BEGIN:DAYLIGHT
TZOFFSETFROM:+0100
TZOFFSETTO:+0200
TZNAME:CEST
DTSTART:20250330T010000
END:DAYLIGHT
BEGIN:STANDARD
TZOFFSETFROM:+0200
TZOFFSETTO:+0100
TZNAME:CET
DTSTART:20251026T010000
END:STANDARD
BEGIN:DAYLIGHT
TZOFFSETFROM:+0100
TZOFFSETTO:+0200
TZNAME:CEST
DTSTART:20260329T010000
END:DAYLIGHT
BEGIN:STANDARD
TZOFFSETFROM:+0200
TZOFFSETTO:+0100
TZNAME:CET
DTSTART:20261025T010000
END:STANDARD
END:VTIMEZONE
BEGIN:VEVENT
DTSTART;VALUE=DATE:20250901
DTEND;VALUE=DATE:20251001
DTSTAMP:20260420T094816
CREATED:20250611T080136Z
LAST-MODIFIED:20250611T080136Z
UID:126478-1756684800-1759276799@www.pechabou.fr
SUMMARY:Exposition\, le petit monde de Tania
DESCRIPTION:Exposition des œuvres de Tania
URL:https://www.pechabou.fr/event/exposition-le-petit-monde-de-tania/
LOCATION:Médiathèque de Pechabou\, 29 avenue d’Occitanie\, Pechabou\, 31320\, France
CATEGORIES:Art manuel,Exposition,Peinture
ATTACH;FMTTYPE=image/jpeg:https://www.pechabou.fr/wp-content/uploads/2025/06/Le-petit-monde-de-Tania-art.jpg
ORGANIZER;CN="M%C3%A9diath%C3%A8que de Pechabou":MAILTO:mediatheque@mairie-pechabou.fr
END:VEVENT
BEGIN:VEVENT
DTSTART;TZID=Europe/Paris:20250927T193000
DTEND;TZID=Europe/Paris:20250927T213000
DTSTAMP:20260420T094816
CREATED:20250827T084850Z
LAST-MODIFIED:20250827T084850Z
UID:127137-1759001400-1759008600@www.pechabou.fr
SUMMARY:Apéro-concert avec le DADÈF QUARTET
DESCRIPTION:À partir de 19 h 30\, venez assister à un apéro-concert avec le DADET QUARTET (klezmer electro).\nUn food truck sera présent.
URL:https://www.pechabou.fr/event/apero-concert-avec-le-dadef-quartet/
LOCATION:Bar du Bout de la Colline\, 6 rue du fort\, Pecabou\, 31320\, France
CATEGORIES:Apéro,Concert
ATTACH;FMTTYPE=image/png:https://www.pechabou.fr/wp-content/uploads/2025/08/Dadèf-art.png
ORGANIZER;CN="Bar du Bout de la Colline":MAILTO:contact@pechanous.org
END:VEVENT
END:VCALENDAR