BEGIN:VCALENDAR
VERSION:2.0
PRODID:-//Commune de Pechabou - ECPv6.15.16//NONSGML v1.0//EN
CALSCALE:GREGORIAN
METHOD:PUBLISH
X-WR-CALNAME:Commune de Pechabou
X-ORIGINAL-URL:https://www.pechabou.fr
X-WR-CALDESC:Évènements pour Commune de Pechabou
REFRESH-INTERVAL;VALUE=DURATION:PT1H
X-Robots-Tag:noindex
X-PUBLISHED-TTL:PT1H
BEGIN:VTIMEZONE
TZID:Europe/Paris
BEGIN:DAYLIGHT
TZOFFSETFROM:+0100
TZOFFSETTO:+0200
TZNAME:CEST
DTSTART:20230326T010000
END:DAYLIGHT
BEGIN:STANDARD
TZOFFSETFROM:+0200
TZOFFSETTO:+0100
TZNAME:CET
DTSTART:20231029T010000
END:STANDARD
BEGIN:DAYLIGHT
TZOFFSETFROM:+0100
TZOFFSETTO:+0200
TZNAME:CEST
DTSTART:20240331T010000
END:DAYLIGHT
BEGIN:STANDARD
TZOFFSETFROM:+0200
TZOFFSETTO:+0100
TZNAME:CET
DTSTART:20241027T010000
END:STANDARD
BEGIN:DAYLIGHT
TZOFFSETFROM:+0100
TZOFFSETTO:+0200
TZNAME:CEST
DTSTART:20250330T010000
END:DAYLIGHT
BEGIN:STANDARD
TZOFFSETFROM:+0200
TZOFFSETTO:+0100
TZNAME:CET
DTSTART:20251026T010000
END:STANDARD
END:VTIMEZONE
BEGIN:VEVENT
DTSTART;TZID=Europe/Paris:20240527T143000
DTEND;TZID=Europe/Paris:20240527T160000
DTSTAMP:20260424T181322
CREATED:20240424T150355Z
LAST-MODIFIED:20240424T150355Z
UID:121956-1716820200-1716825600@www.pechabou.fr
SUMMARY:Activité Scrabble-goûter
DESCRIPTION:  \nLe lundi après-midi de 14 h 30 à 16 h\, l’activité démarre sur deux dates le 27 mai et le 17 juin. Les personnes intéressées s’inscrivent simplement auprès des bibliothécaires (voir affiche). Le principe est de lier le jeu au sucré\, autrement dit vous venez jouer au Scrabble et vous profitez également d’un petit goûter ! \nDans un premier temps\, les places disponibles sont au nombre de huit et cela pourra évoluer en fonction des demandes.
URL:https://www.pechabou.fr/event/activite-scrabble-gouter/
LOCATION:Médiathèque de Pechabou\, 29 avenue d’Occitanie\, Pechabou\, 31320\, France
CATEGORIES:Culture,Entraide,Jeux
ATTACH;FMTTYPE=image/jpeg:https://www.pechabou.fr/wp-content/uploads/2024/04/Scrabble-gouter.jpg
ORGANIZER;CN="CCAS Pechabou":MAILTO:ccas@mairie-pechabou.fr
END:VEVENT
END:VCALENDAR