BEGIN:VCALENDAR
VERSION:2.0
PRODID:-//Commune de Pechabou - ECPv6.15.16//NONSGML v1.0//EN
CALSCALE:GREGORIAN
METHOD:PUBLISH
X-WR-CALNAME:Commune de Pechabou
X-ORIGINAL-URL:https://www.pechabou.fr
X-WR-CALDESC:Évènements pour Commune de Pechabou
REFRESH-INTERVAL;VALUE=DURATION:PT1H
X-Robots-Tag:noindex
X-PUBLISHED-TTL:PT1H
BEGIN:VTIMEZONE
TZID:Europe/Paris
BEGIN:DAYLIGHT
TZOFFSETFROM:+0100
TZOFFSETTO:+0200
TZNAME:CEST
DTSTART:20230326T010000
END:DAYLIGHT
BEGIN:STANDARD
TZOFFSETFROM:+0200
TZOFFSETTO:+0100
TZNAME:CET
DTSTART:20231029T010000
END:STANDARD
BEGIN:DAYLIGHT
TZOFFSETFROM:+0100
TZOFFSETTO:+0200
TZNAME:CEST
DTSTART:20240331T010000
END:DAYLIGHT
BEGIN:STANDARD
TZOFFSETFROM:+0200
TZOFFSETTO:+0100
TZNAME:CET
DTSTART:20241027T010000
END:STANDARD
BEGIN:DAYLIGHT
TZOFFSETFROM:+0100
TZOFFSETTO:+0200
TZNAME:CEST
DTSTART:20250330T010000
END:DAYLIGHT
BEGIN:STANDARD
TZOFFSETFROM:+0200
TZOFFSETTO:+0100
TZNAME:CET
DTSTART:20251026T010000
END:STANDARD
END:VTIMEZONE
BEGIN:VEVENT
DTSTART;TZID=Europe/Paris:20240622T100000
DTEND;TZID=Europe/Paris:20240622T120000
DTSTAMP:20260424T180915
CREATED:20240221T093203Z
LAST-MODIFIED:20240221T093220Z
UID:121319-1719050400-1719057600@www.pechabou.fr
SUMMARY:Matinée jeux de société
DESCRIPTION:Sur la thématique\, jeux de cartes\, avec les jeux Magic\, Yu-Gi-Oh! et Lorcana. \nEntrée libre. Tout public.
URL:https://www.pechabou.fr/event/matinee-jeux-de-societe-2/
LOCATION:Médiathèque de Pechabou\, 29 avenue d’Occitanie\, Pechabou\, 31320\, France
CATEGORIES:Jeux
ATTACH;FMTTYPE=image/png:https://www.pechabou.fr/wp-content/uploads/2024/02/3.png
ORGANIZER;CN="M%C3%A9diath%C3%A8que de Pechabou":MAILTO:mediatheque@mairie-pechabou.fr
END:VEVENT
END:VCALENDAR